BEGIN:VCALENDAR
VERSION:2.0
PRODID:-//Deutsche Schulschachstiftung e.V. - ECPv6.15.20//NONSGML v1.0//EN
CALSCALE:GREGORIAN
METHOD:PUBLISH
X-ORIGINAL-URL:https://schulschachstiftung.de
X-WR-CALDESC:Veranstaltungen für Deutsche Schulschachstiftung e.V.
REFRESH-INTERVAL;VALUE=DURATION:PT1H
X-Robots-Tag:noindex
X-PUBLISHED-TTL:PT1H
BEGIN:VTIMEZONE
TZID:Europe/Berlin
BEGIN:DAYLIGHT
TZOFFSETFROM:+0100
TZOFFSETTO:+0200
TZNAME:CEST
DTSTART:20230326T010000
END:DAYLIGHT
BEGIN:STANDARD
TZOFFSETFROM:+0200
TZOFFSETTO:+0100
TZNAME:CET
DTSTART:20231029T010000
END:STANDARD
BEGIN:DAYLIGHT
TZOFFSETFROM:+0100
TZOFFSETTO:+0200
TZNAME:CEST
DTSTART:20240331T010000
END:DAYLIGHT
BEGIN:STANDARD
TZOFFSETFROM:+0200
TZOFFSETTO:+0100
TZNAME:CET
DTSTART:20241027T010000
END:STANDARD
BEGIN:DAYLIGHT
TZOFFSETFROM:+0100
TZOFFSETTO:+0200
TZNAME:CEST
DTSTART:20250330T010000
END:DAYLIGHT
BEGIN:STANDARD
TZOFFSETFROM:+0200
TZOFFSETTO:+0100
TZNAME:CET
DTSTART:20251026T010000
END:STANDARD
END:VTIMEZONE
BEGIN:VEVENT
DTSTART;TZID=Europe/Berlin:20241005T100000
DTEND;TZID=Europe/Berlin:20241006T130000
DTSTAMP:20260421T202712
CREATED:20240728T200855Z
LAST-MODIFIED:20240922T060753Z
UID:4017-1728122400-1728219600@schulschachstiftung.de
SUMMARY:Schulschachpatentkurs von Frauen für Frauen in München
DESCRIPTION:Schulschachpatentkurs von Frauen für Frauen in München \n\n Oktober und 6. Oktober 2024\, jeweils 10:00 – 15:30 Uhr\n\n  \nKursgebühr  \n\nmit Urkunde Schulschachpatent – 80 €\nohne Urkunde Schulschachpatent – kostenlos\n\n  \nSchulschachpatentkurs für Frauen \nLaura Schalkhäuser und Monika Schmatz leiten den Kurs. Am Samstagabend besuchen die Teilnehmerinnen das Oktoberfest. \nDie Mindestteilnehmerzahl beträgt 7 Teilnehmerinnen. \nWer das Schulschachpatent erwerben möchte\, zahlt den Standardpreis; wer nur teilnehmen will\, kann dies kostenlos tun. \nInhalte des Schulschachpatents der Deutschen Schulschachstiftung \nMit über 3.500 verliehenen Patenten ist das Schulschachpatent seit über 10 Jahren ein kontinuierliches und nachgefragtes Fortbildungsangebot der Deutschen Schulschachstiftung. \nDas Schulschachpatent hat zum Ziel\, Übungsleiter und Lehrer auf die Arbeit an Schulen mit Schach vorzubereiten und dafür zu motivieren. Die Bandbreite der Organisationsformen von Schulschach reicht heute von Schach als Fach bis hin zur traditionellen Schulschach-AG. \nDie Zielgruppe des Schulschachpatents sind interessierte Übungsleiter und Lehrer\, die an einer Schule Schach unterrichten wollen oder es bereits tun. \nThemen: \n– Bedeutung des Schulschachs und dessen Wirkung auf die Entwicklung von Kindern\n– Merkmale des Schachspiels bei Kindern\n– Auswahl von Inhalten für das erste Schachjahr\n– Vorstellung geeigneter Methoden für den Schachunterricht\n– Vorstellung geeigneter Lehr- und Trainingsmaterialien\n– Rahmenbedingungen für das Schulschach; Aufbau einer Schulschachgruppe\n– Weitere Hinweise zum Schachunterricht (Aufsicht\, Disziplin\, Motivation\, Konzentration u.a.m.)\n– Förderung von Mädchen im Schulschach u.v.m. \nNach erfolgreichem Abschluss erhält die Teilnehmerin das Schulschachpatent der Deutschen Schulschachstiftung. \nAnmeldung\n\nDie Anmeldung erfolgt über den Button „Anmelden“ in diesem Beitrag. \nWer das Patent absolvieren möchte\, überweist bitte gleichzeitig die Kursgebühr (80 Euro) auf das Veranstalter-Konto: \nDeutsche Schulschachstiftung e. V.\, IBAN DE78 2305 1030 0510 1382 74 (Sparkasse Südholstein\, BIC NOLADE21SHO) \nunter Angabe des Namens und des Stichworts „Schulschachpatent von Frauen für Frauen München 2024“. \nAnmeldeschluss ist der 22. September 2024.
URL:https://schulschachstiftung.de/event/schulschachpatentkurs-von-frauen-fuer-frauen-in-muenchen/
LOCATION:Lindenstraße Vaterstetten\, Lindenstraße 18a\, Vaterstetten\, 85591
CATEGORIES:Schulschachpatentkurse
ATTACH;FMTTYPE=image/jpeg:https://schulschachstiftung.de/wp-content/uploads/2022/10/schach-frauen-1.jpg
END:VEVENT
BEGIN:VEVENT
DTSTART;TZID=Europe/Berlin:20241026T100000
DTEND;TZID=Europe/Berlin:20241027T140000
DTSTAMP:20260421T202712
CREATED:20240728T201534Z
LAST-MODIFIED:20240930T152956Z
UID:4026-1729936800-1730037600@schulschachstiftung.de
SUMMARY:Walters Schulschachwelt mit Schulschachpatent
DESCRIPTION:In zwei Tagen bekommen die Teilnehmerinnen und Teilnehmer praktisch viele Erfahrungen präsentiert\, damit sie selber eine Schulschachgruppe leiten können. Der Kurs ist für Einsteiger\, nicht für alte Häsinnen und Hasen. \nAnschließend nach dem Kurs werden die Teilnehmer etwas gecoacht\, damit sie noch besser durchstarten können. \nWer das Schulschachpatent haben will\, zahlt 80 Euro\, bekommt das Diplom und etwas Material\, wer das nicht haben will\, macht den Kurs so mit. \nInhalte des Schulschachpatents der DSJ\nMit über 3500 verliehenen Patenten ist das Schulschachpatent seit über 10 Jahren ein kontinuierliches und nachgefragtes Fortbildungsangebot der Deutschen Schulschachstiftung.\nDas Schulschachpatent hat zum Ziel\, Übungsleiter und Lehrer auf die Arbeit an Schulen mit Schach vorzubereiten und dafür zu motivieren. Die Bandbreite der Organisationsformen von Schulschach reicht heute von Schach als Fach bis hin zur traditionellen Schulschach-AG.\nDie Zielgruppe des Schulschachpatents sind interessierte Übungsleiter und Lehrer\, die an einer Schule Schach unterrichten wollen oder es bereits tun. \nThemen: \n\nBedeutung des Schulschachs\, Wirkung auf die Entwicklung von Kindern\nMerkmale des Schachspiels von Kindern\nAuswahl von Inhalten für das erste Schachjahr\nVorstellung geeigneter Methoden für den Schachunterricht\nVorstellung geeigneter Lehr- und Trainingsmaterialien\nRahmenbedingungen für das Schulschach; Aufbau einer Schulschachgruppe\nWeitere Hinweise zum Schachunterricht (Aufsicht\, Disziplin\, Motivation\, Konzentration u.a.m.)\nFörderung von Mädchen im Schulschach\n\nu.v.m. \nNach erfolgreichem Abschluss erhält der Teilnehmer das Schulschachpatent der\nDeutschen Schulschachstiftung. \nAnmeldung\nAnmeldung über den Button “Anmelden” in diesem Beitrag. \nWer das Patent absolvieren möchte: Gleichzeitige Überweisung der Kursgebühr (80 Euro) auf das Veranstalter-Konto: Deutsche Schulschachstiftung e. V.\, IBAN DE78 2305 1030 0510 1382 74 (Sparkasse Südholstein\, BIC NOLADE21SHO) unter Angabe des Namens und des Stichworts »Walters Schulschachwelt mit Schulschachpatent 24« . \nAnmeldeschluss ist der 01. Oktober 2024. \n  \n 
URL:https://schulschachstiftung.de/event/walters-schulschachwelt-mit-schulschachpatent/
LOCATION:Lindenstraße Vaterstetten\, Lindenstraße 18a\, Vaterstetten\, 85591
CATEGORIES:Schulschachpatentkurse
ORGANIZER;CN="Deutsche Schulschachstiftung - Walter R%C3%A4dler":MAILTO:wraedler@aol.com
END:VEVENT
END:VCALENDAR