BEGIN:VCALENDAR
VERSION:2.0
PRODID:-//Deutsche Schulschachstiftung e.V. - ECPv6.15.20//NONSGML v1.0//EN
CALSCALE:GREGORIAN
METHOD:PUBLISH
X-WR-CALNAME:Deutsche Schulschachstiftung e.V.
X-ORIGINAL-URL:https://schulschachstiftung.de
X-WR-CALDESC:Veranstaltungen für Deutsche Schulschachstiftung e.V.
REFRESH-INTERVAL;VALUE=DURATION:PT1H
X-Robots-Tag:noindex
X-PUBLISHED-TTL:PT1H
BEGIN:VTIMEZONE
TZID:Europe/Berlin
BEGIN:DAYLIGHT
TZOFFSETFROM:+0100
TZOFFSETTO:+0200
TZNAME:CEST
DTSTART:20230326T010000
END:DAYLIGHT
BEGIN:STANDARD
TZOFFSETFROM:+0200
TZOFFSETTO:+0100
TZNAME:CET
DTSTART:20231029T010000
END:STANDARD
BEGIN:DAYLIGHT
TZOFFSETFROM:+0100
TZOFFSETTO:+0200
TZNAME:CEST
DTSTART:20240331T010000
END:DAYLIGHT
BEGIN:STANDARD
TZOFFSETFROM:+0200
TZOFFSETTO:+0100
TZNAME:CET
DTSTART:20241027T010000
END:STANDARD
BEGIN:DAYLIGHT
TZOFFSETFROM:+0100
TZOFFSETTO:+0200
TZNAME:CEST
DTSTART:20250330T010000
END:DAYLIGHT
BEGIN:STANDARD
TZOFFSETFROM:+0200
TZOFFSETTO:+0100
TZNAME:CET
DTSTART:20251026T010000
END:STANDARD
END:VTIMEZONE
BEGIN:VEVENT
DTSTART;VALUE=DATE:20240830
DTEND;VALUE=DATE:20240901
DTSTAMP:20260421T234127
CREATED:20240606T222354Z
LAST-MODIFIED:20240708T072002Z
UID:3977-1724976000-1725148799@schulschachstiftung.de
SUMMARY:Schulschachpatent in Torgelow
DESCRIPTION:Mit über 3500 verliehenen Patenten ist das Schulschachpatent seit über 10 Jahren ein kontinuierliches und nachgefragtes Fortbildungsangebot der Deutschen Schulschachstiftung.\nDas Schulschachpatent hat zum Ziel\, Übungsleiter und Lehrer auf die Arbeit an Schulen mit Schach vorzubereiten und dafür zu motivieren. Die Bandbreite der Organisationsformen von Schulschach reicht heute von Schach als Fach bis hin zur traditionellen Schulschach-AG.\nDie Zielgruppe des Schulschachpatents sind interessierte Übungsleiter und Lehrer\, die an einer Schule Schach unterrichten wollen oder es bereits tun. \nThemen:\n1. Einführung\n2. Methoden\n3. Inhalt und Rahmenplan für das erste Schachjahr\n4. Lehrmaterialien\n5. Rahmenbedingungen für Schulschach\n6. Pädagogische Hinweise \nu.v.m. \nNach erfolgreichem Abschluss erhält der Teilnehmer das Schulschachpatent der\nDeutschen Schulschachstiftung. \nWeitere Informationen in der Ausschreibung \n\nAnmeldeschluss ist der 15.August 2024!
URL:https://schulschachstiftung.de/event/schulschachpatent-in-torgelow/
LOCATION:SAV Torgelow\, Franz-Schubert-Straße 8\, Torgelow\, 17358
CATEGORIES:Schulschachpatentkurse
END:VEVENT
BEGIN:VEVENT
DTSTART;TZID=Europe/Berlin:20240830T163000
DTEND;TZID=Europe/Berlin:20240831T170000
DTSTAMP:20260421T234127
CREATED:20240728T231029Z
LAST-MODIFIED:20240728T231058Z
UID:4036-1725035400-1725123600@schulschachstiftung.de
SUMMARY:Schulschachpatent in Münster
DESCRIPTION:Mit über 3500 verliehenen Patenten ist das Schulschachpatent seit über 10 Jahren ein kontinuierliches und nachgefragtes Fortbildungsangebot der Deutschen Schulschachstiftung.\nDas Schulschachpatent hat zum Ziel\, Übungsleiter und Lehrer auf die Arbeit an Schulen mit Schach vorzubereiten und dafür zu motivieren. Die Bandbreite der Organisationsformen von Schulschach reicht heute von Schach als Fach bis hin zur traditionellen Schulschach-AG.\nDie Zielgruppe des Schulschachpatents sind interessierte Übungsleiter und Lehrer\, die an einer Schule Schach unterrichten wollen oder es bereits tun. \nThemen:\n1. Einführung\n2. Methoden\n3. Inhalt und Rahmenplan für das erste Schachjahr\n4. Lehrmaterialien\n5. Rahmenbedingungen für Schulschach\n6. Pädagogische Hinweise \nu.v.m. \nNach erfolgreichem Abschluss erhält der Teilnehmer das Schulschachpatent der\nDeutschen Schulschachstiftung. \nWeitere Informationen in der Ausschreibung \n\nAnmeldeschluss ist der 21.August 2024!
URL:https://schulschachstiftung.de/event/schulschachpatent-in-muenster-2/
LOCATION:Vereinsheim des SK Münster 32\, Westfälische Straße 197\, Münster\, 48165
CATEGORIES:Schulschachpatentkurse
END:VEVENT
END:VCALENDAR