BEGIN:VCALENDAR
VERSION:2.0
PRODID:-//Deutsche Schulschachstiftung e.V. - ECPv6.15.20//NONSGML v1.0//EN
CALSCALE:GREGORIAN
METHOD:PUBLISH
X-ORIGINAL-URL:https://schulschachstiftung.de
X-WR-CALDESC:Veranstaltungen für Deutsche Schulschachstiftung e.V.
REFRESH-INTERVAL;VALUE=DURATION:PT1H
X-Robots-Tag:noindex
X-PUBLISHED-TTL:PT1H
BEGIN:VTIMEZONE
TZID:Europe/Berlin
BEGIN:DAYLIGHT
TZOFFSETFROM:+0100
TZOFFSETTO:+0200
TZNAME:CEST
DTSTART:20230326T010000
END:DAYLIGHT
BEGIN:STANDARD
TZOFFSETFROM:+0200
TZOFFSETTO:+0100
TZNAME:CET
DTSTART:20231029T010000
END:STANDARD
BEGIN:DAYLIGHT
TZOFFSETFROM:+0100
TZOFFSETTO:+0200
TZNAME:CEST
DTSTART:20240331T010000
END:DAYLIGHT
BEGIN:STANDARD
TZOFFSETFROM:+0200
TZOFFSETTO:+0100
TZNAME:CET
DTSTART:20241027T010000
END:STANDARD
BEGIN:DAYLIGHT
TZOFFSETFROM:+0100
TZOFFSETTO:+0200
TZNAME:CEST
DTSTART:20250330T010000
END:DAYLIGHT
BEGIN:STANDARD
TZOFFSETFROM:+0200
TZOFFSETTO:+0100
TZNAME:CET
DTSTART:20251026T010000
END:STANDARD
END:VTIMEZONE
BEGIN:VEVENT
DTSTART;VALUE=DATE:20240521
DTEND;VALUE=DATE:20240523
DTSTAMP:20260422T045310
CREATED:20240424T144622Z
LAST-MODIFIED:20240424T144622Z
UID:3849-1716249600-1716422399@schulschachstiftung.de
SUMMARY:Schulschachpatent in Willingen
DESCRIPTION:Schulschachpatentkurs während der DJEM \nMit über 3000 Patenten ist das Schulschachpatent seit über 10 Jahren ein kontinuierliches und nachgefragtes Fortbildungsangebot der Deutschen Schulschachstiftung.\nDas Schulschachpatent hat zum Ziel\, Übungsleiter und Lehrer auf die Arbeit an Schulen mit Schach vorzubereiten und dafür zu motivieren. Die Bandbreite der Organisationsformen von Schulschach reicht heute von Schach als Fach bis hin zur traditionellen Schulschach-AG.\nDie Zielgruppe des Schulschachpatents sind interessierte Übungsleiter und Lehrer\, die an einer Schule Schach unterrichten wollen oder es bereits tun. \nThemen:\n1. Einführung\n2. Methoden\n3. Inhalt und Rahmenplan für das erste Schachjahr\n4. Lehrmaterialien\n5. Rahmenbedingungen für Schulschach\n6. Pädagogische Hinweise \nu.v.m. \nNach erfolgreichem Abschluss erhält der Teilnehmer das Schulschachpatent der\nDeutschen Schulschachstiftung. \nWeitere Informationen in der Ausschreibung \n\nAnmeldung \n\n 
URL:https://schulschachstiftung.de/event/schulschachpatent-in-willingen/
LOCATION:Sauerlandstern Hotel Willingen\, Seminarraum K3\, Kneippweg 1\, Willingen\, 34508\, Deutschland
CATEGORIES:Schulschachpatentkurse
ATTACH;FMTTYPE=image/jpeg:https://schulschachstiftung.de/wp-content/uploads/2023/12/deasbrwzquzdqihnynluodxkvutarp.jpg
ORGANIZER;CN="Deutsche Schachjugend":MAILTO:info@deutsche-schachjugend.de
END:VEVENT
BEGIN:VEVENT
DTSTART;VALUE=DATE:20240524
DTEND;VALUE=DATE:20240526
DTSTAMP:20260422T045310
CREATED:20240328T103227Z
LAST-MODIFIED:20240328T145529Z
UID:3841-1716508800-1716681599@schulschachstiftung.de
SUMMARY:Schulschachpatent in Hanover
DESCRIPTION:Mit über 3000 Patenten ist das Schulschachpatent seit über 10 Jahren ein kontinuierliches und nachgefragtes Fortbildungsangebot der Deutschen Schulschachstiftung.\nDas Schulschachpatent hat zum Ziel\, Übungsleiter und Lehrer auf die Arbeit an Schulen mit Schach vorzubereiten und dafür zu motivieren. Die Bandbreite der Organisationsformen von Schulschach reicht heute von Schach als Fach bis hin zur traditionellen Schulschach-AG.\nDie Zielgruppe des Schulschachpatents sind interessierte Übungsleiter und Lehrer\, die an einer Schule Schach unterrichten wollen oder es bereits tun. \nThemen:\n1. Einführung\n2. Methoden\n3. Inhalt und Rahmenplan für das erste Schachjahr\n4. Lehrmaterialien\n5. Rahmenbedingungen für Schulschach\n6. Pädagogische Hinweise \nu.v.m. \nNach erfolgreichem Abschluss erhält der Teilnehmer das Schulschachpatent der\nDeutschen Schulschachstiftung. \nWeitere Informationen in der Ausschreibung \nHinweis: Bild mit KI erstellt
URL:https://schulschachstiftung.de/event/schulschachpatent-in-hanover/
LOCATION:Stadtteilzentrum KroKuS in Hannover\, Thie 6\, Hannover\, 30539
CATEGORIES:Schulschachpatentkurse
ATTACH;FMTTYPE=image/png:https://schulschachstiftung.de/wp-content/uploads/2024/03/AAF7eCm4sbw_1711622222807.png
END:VEVENT
BEGIN:VEVENT
DTSTART;TZID=Europe/Berlin:20240527T100000
DTEND;TZID=Europe/Berlin:20240528T170000
DTSTAMP:20260422T045310
CREATED:20240327T181857Z
LAST-MODIFIED:20240327T181916Z
UID:3834-1716804000-1716915600@schulschachstiftung.de
SUMMARY:Schulschachpatent in München
DESCRIPTION:Mit über 3000 Patenten ist das Schulschachpatent seit über 10 Jahren ein kontinuierliches und nachgefragtes Fortbildungsangebot der Deutschen Schulschachstiftung.\nDas Schulschachpatent hat zum Ziel\, Übungsleiter und Lehrer auf die Arbeit an Schulen mit Schach vorzubereiten und dafür zu motivieren. Die Bandbreite der Organisationsformen von Schulschach reicht heute von Schach als Fach bis hin zur traditionellen Schulschach-AG.\nDie Zielgruppe des Schulschachpatents sind interessierte Übungsleiter und Lehrer\, die an einer Schule Schach unterrichten wollen oder es bereits tun. \nThemen:\n1. Einführung\n2. Methoden\n3. Inhalt und Rahmenplan für das erste Schachjahr\n4. Lehrmaterialien\n5. Rahmenbedingungen für Schulschach\n6. Pädagogische Hinweise \nu.v.m. \nNach erfolgreichem Abschluss erhält der Teilnehmer das Schulschachpatent der\nDeutschen Schulschachstiftung. \nWeitere Informationen in der Ausschreibung \n  \nHinweis: Bild mit KI erstellt
URL:https://schulschachstiftung.de/event/schulschachpatent-in-muenchen/
LOCATION:Gymnasium Moosach\, Gerastr. 6\, München\, 80993
CATEGORIES:Schulschachpatentkurse
ATTACH;FMTTYPE=image/jpeg:https://schulschachstiftung.de/wp-content/uploads/2024/03/ytA3TD3MvEvDoCiYmUWA.jpg
END:VEVENT
END:VCALENDAR