BEGIN:VCALENDAR
VERSION:2.0
PRODID:-//Deutsche Schulschachstiftung e.V. - ECPv6.15.20//NONSGML v1.0//EN
CALSCALE:GREGORIAN
METHOD:PUBLISH
X-ORIGINAL-URL:https://schulschachstiftung.de
X-WR-CALDESC:Veranstaltungen für Deutsche Schulschachstiftung e.V.
REFRESH-INTERVAL;VALUE=DURATION:PT1H
X-Robots-Tag:noindex
X-PUBLISHED-TTL:PT1H
BEGIN:VTIMEZONE
TZID:Europe/Berlin
BEGIN:DAYLIGHT
TZOFFSETFROM:+0100
TZOFFSETTO:+0200
TZNAME:CEST
DTSTART:20220327T010000
END:DAYLIGHT
BEGIN:STANDARD
TZOFFSETFROM:+0200
TZOFFSETTO:+0100
TZNAME:CET
DTSTART:20221030T010000
END:STANDARD
BEGIN:DAYLIGHT
TZOFFSETFROM:+0100
TZOFFSETTO:+0200
TZNAME:CEST
DTSTART:20230326T010000
END:DAYLIGHT
BEGIN:STANDARD
TZOFFSETFROM:+0200
TZOFFSETTO:+0100
TZNAME:CET
DTSTART:20231029T010000
END:STANDARD
BEGIN:DAYLIGHT
TZOFFSETFROM:+0100
TZOFFSETTO:+0200
TZNAME:CEST
DTSTART:20240331T010000
END:DAYLIGHT
BEGIN:STANDARD
TZOFFSETFROM:+0200
TZOFFSETTO:+0100
TZNAME:CET
DTSTART:20241027T010000
END:STANDARD
END:VTIMEZONE
BEGIN:VEVENT
DTSTART;VALUE=DATE:20231209
DTEND;VALUE=DATE:20231211
DTSTAMP:20260424T135923
CREATED:20231121T004538Z
LAST-MODIFIED:20231204T213207Z
UID:3602-1702080000-1702252799@schulschachstiftung.de
SUMMARY:Abgesagt: Schulschachpatent in Hattingen
DESCRIPTION:Mit über 3000 Patenten ist das Schulschachpatent seit 20 Jahren ein kontinuierliches und nachgefragtes Fortbildungsangebot der Deutschen Schulschachstiftung.\nDas Schulschachpatent hat zum Ziel\, Übungsleiter und Lehrer auf die Arbeit an Schulen mit Schach vorzubereiten und dafür zu motivieren. Die Bandbreite der Organisationsformen von Schulschach reicht heute von Schach als Fach bis hin zur traditionellen Schulschach-AG.\nDie Zielgruppe des Schulschachpatents sind interessierte Übungsleiter und Lehrer\, die an einer\nSchule Schach unterrichten wollen oder es bereits tun. \nThemen: \n\nAuswahl spezifischer Trainingsinhalte\, die für das Schulschach von\nbesonderer Bedeutung sind.\nGeeignete Trainingsmethoden aus der Praxis für das Training in\nSchulschachgruppen.\nBedeutung des Schulschachs und Wirkung für die Entwicklung von\nSchülern.\nRahmenbedingungen für die Organisation des Schulschachs.\nVorstellung einer Auswahl geeigneter Trainingsmaterialien für den\nSchulschachunterricht.\n\nNach erfolgreichem Abschluss erhält der Teilnehmer das Schulschachpatent der\nDeutschen Schulschachstiftung. \nAnmeldung: https://kieler-schulschach-initiative.de/2023/11/03/schulschachpatent-in-hattingen-anmeldung/ \nWeitere Informationen in der Ausschreibung
URL:https://schulschachstiftung.de/event/schulschachpatent-in-hattingen/
LOCATION:Bürgerzentrum Holschentor Hattingen\, Talstraße 8\, Hattingen\, 45525
CATEGORIES:Schulschachpatentkurse
END:VEVENT
END:VCALENDAR