BEGIN:VCALENDAR
VERSION:2.0
PRODID:-//Deutsche Schulschachstiftung e.V. - ECPv6.15.20//NONSGML v1.0//EN
CALSCALE:GREGORIAN
METHOD:PUBLISH
X-ORIGINAL-URL:https://schulschachstiftung.de
X-WR-CALDESC:Veranstaltungen für Deutsche Schulschachstiftung e.V.
REFRESH-INTERVAL;VALUE=DURATION:PT1H
X-Robots-Tag:noindex
X-PUBLISHED-TTL:PT1H
BEGIN:VTIMEZONE
TZID:Europe/Berlin
BEGIN:DAYLIGHT
TZOFFSETFROM:+0100
TZOFFSETTO:+0200
TZNAME:CEST
DTSTART:20220327T010000
END:DAYLIGHT
BEGIN:STANDARD
TZOFFSETFROM:+0200
TZOFFSETTO:+0100
TZNAME:CET
DTSTART:20221030T010000
END:STANDARD
BEGIN:DAYLIGHT
TZOFFSETFROM:+0100
TZOFFSETTO:+0200
TZNAME:CEST
DTSTART:20230326T010000
END:DAYLIGHT
BEGIN:STANDARD
TZOFFSETFROM:+0200
TZOFFSETTO:+0100
TZNAME:CET
DTSTART:20231029T010000
END:STANDARD
BEGIN:DAYLIGHT
TZOFFSETFROM:+0100
TZOFFSETTO:+0200
TZNAME:CEST
DTSTART:20240331T010000
END:DAYLIGHT
BEGIN:STANDARD
TZOFFSETFROM:+0200
TZOFFSETTO:+0100
TZNAME:CET
DTSTART:20241027T010000
END:STANDARD
END:VTIMEZONE
BEGIN:VEVENT
DTSTART;TZID=Europe/Berlin:20231110T180000
DTEND;TZID=Europe/Berlin:20231112T120000
DTSTAMP:20260424T155217
CREATED:20230625T174142Z
LAST-MODIFIED:20230905T160101Z
UID:3450-1699639200-1699790400@schulschachstiftung.de
SUMMARY:15. Deutscher Schulschachkongress in Erlangen
DESCRIPTION:Organisation von Schach an der Schule\, Vorstellung von Methoden\, Didaktik & Lehrkonzepten in Form von Workshops \n\n\nLiebe Lehrerinnen und Lehrer\, liebe Schulschachinteressierte\, liebe Schulschachreferentinnen und -referenten\, \ndie Deutsche Schachjugend und die Deutsche Schulschachstiftung laden zum 15. Schulschachkongress nach Erlangen ein. \nNach Braunschweig 2021 und Berlin 2022 ist jetzt mal wieder der Süden an der Reihe. Wir hoffen auf das Verständnis aller. \nAm Freitag beginnen wir mit einer Podiumsdiskussion. Dabei wollen wir über den deutschen Tellerrand schauen und uns im europäischen Umland umschauen\, wie dort das Schulschach organisiert ist. \nAm Samstag folgt der Kongress mit den Workshops zu den vielfältigen Themen des Schulschachs. Dabei haben wir uns bemüht die Vielfalt der Thematik abzudecken und viele neue Referentinnen und Referenten eingeladen. \nDas Wochenende schließt ab mit dem Treffen der Landesreferenten\, -referentinnen Schulschach und der Deutschen Schachschulen. \nWir freuen uns über eine zahlreiche Beteiligung und einen tollen Kongress in Erlangen. \nHelge Frowein\, Schulschachreferent Deutsche Schachjugend \nJörg Schulz\, 1. Vorsitzender Deutsche Schulschachstiftung \nZielgruppe\nLehrerinnen und Lehrer\, die Schach an die Schulen bringen möchten oder bereits unterrichten\, Leiter von Schach-AGs\, Inhaber des Schulschachpatentes\, Vereinsvertreter\, die einen Kontakt zu Schulen aufbauen möchten\, beziehungsweise schon Schach-AGs an Schulen betreuen\, die Schulschachreferenten\, -referentinnen aller Ebenen. Genauso aber auch Hortnerinnen und Hortner\, Mitarbeiterinnen und Mitarbeiter von Kindergärten\, Vorschulgruppen \nTagungsort\nNovotel Erlangen\, Hofmannstraße 34\, 91052 Erlangen \nReferentinnen und Referenten\nNamhafte Referentinnen und Referenten aus der Schul-schach- und Pädagogikszene sind eingeladen und werden ein abwechslungsreiches Themenangebot vorstellen. Unter anderem mit dabei sind: \n\n\n\nName\nThema\n\n\n\n\nWalter Rädler\nSpiele auf dem Schachbrett – leider ohne Schach\n\n\nSabine Görken\nPsychomotorik plus EVTL.kooperative Lehrformen\n\n\nLaura Schalkhäuser\nWie motiviere ich Mädchen zum Schach\n\n\nSunsanne Morsi\nSchach als Mittel der Integration\n\n\nXenia Bayer\nSchach und Mathematik\n\n\nHarald Niesch\nMethodik Kinderschach bis hin zu Training mit Dyskalkulierkindern\n\n\nHarald Schneider-Zinner\nMethodik+Didaktik des Schachtrainings\n\n\nGM Stefan Kindermann\nDer Königsplan für Kinder – Er wird per Internet zugeschaltet\n\n\nJesper Hall\nHow to teach teachers to play chess with their children\n\n\nPatrick Wiebe\nSchach für Kinder von 4 Jahren aufwärts\n\n\nIM Andreas Rupprecht\nverschiedene Schachvarianten\n\n\nRainer Woisin\nDas Schulschachprojekt in Bremen und wie lerne ich mit Fritz&Fertig\n\n\n\n  \n… und viele weitere wie Frank Bicker\, Elias Pfann\, Alex Frenkel\, Johannes Paar\, Manfred Grömping. \nInsgesamt wird es in diesem Jahr 18 Workshops geben\, davon jeweils 6 parallel. \nMarkt der Möglichkeiten\nTreffpunkt der „Schach“ – Schulen (und Schulschach – AGs) in Deutschland. Ausstellen\, Austauschen\, Abgucken! (Kommerzielle Aussteller bitte bei Interesse vorab anfragen!) \nSchachschulen aus ganz Deutschland können ausstellen. \nVerkaufsstand\nGanztägig steht ein Verkaufsstand zur Verfügung mit allem wichtigen Lehrmaterial für die Schulen. \nKosten\nDie Teilnahmegebühr für den Kongress (inkl. Mittagsimbiß\, Kaffeepause\, Tagungsgetränke) beträgt: 65\,00 €. \nDie Schachpädagogische Nacht kostet mit Buffet und Programm: 30\,00 € \nWir bieten für die Übernachtungen beim Schulschachkongress folgendes Hotel an: Novotel Erlangen\, Hofmannstraße 34\, 91052 Erlangen \n\n\n\nZimmer\nKosten\n\n\n\n\nEinzelzimmer\n99\,00 € / Nacht inkl. Frühstücksbuffet\n\n\nEinzelzimmer\n79\,00 € / Nacht ohne Frühstück\n\n\nDoppelzimmer p. P.\n65\,00 € / Nacht inkl. Frühstücksbuffet\n\n\nDoppelzimmer p. P.\n45\,00 € / Nacht ohne Frühstück\n\n\n\nLehrerfortbildung\nDer Schulschachkongress wird von vielen Bundesländern als Lehrerfortbildung anerkannt. Bitte prüfen\, welche Formalitäten im jeweiligen Bundesland erforderlich sind. \nAnmeldung\nDie Anmeldung erfolgt ausschließlich über das Formular am Ende dieser Seite. Meldeschluss ist der 1. November 2023. \nBitte bei der Meldung für die Verpflegung im Hotel angeben\, ob Unverträglichkeiten\, Allergien vorhanden sind\, und wenn welche. \n\nZeitplan (Änderungen vorbehalten)\n\n\n\n\nZeit\nProgramm\n\n\n\n\n\nFreitag\, 10.11.2023 \n\n\n\n20.00 Uhr\nPodiumsdiskussion\n\n\n\n\n\nSonnabend\, 11.11.2023 \n\n\n\n09.00​–10.00 Uhr\nEröffnung des Schulschachkongresses\n\n\n10.00​–12.00 Uhr\nWorkshoprunde 1  \nA1 Verschiedene Studien zu Schach in Schulen (Frank Bicker)\nB1 Schach als Mittel der Integration im Schulbereich (Susanne Morsi)\nC1 Das Schulschach-projekt in Bremen und wie lerne ich dabei mit Fritz&Fertig (Rainer Woisin)\nD1 verschiedene Schachvarianten (IM Andreas Rupprecht)\nE1 Die Ausrichtung eines Schachturniers – Vom Anfängertraining zur Schulschachmeisterschaft (Johannes Paar)\nF1 Die 3 Phasen der kindlichen Schachentwicklung (Harald Schneider-Zinner)\n\n\n\n12.00​–13.30 Uhr\nMittagspause\, Markt der Möglichkeiten\, Verkaufsstand\n\n\n13.30​–15.30 Uhr\nWorkshoprunde 2  \nA2 Schach und Mathematik (Xenia Bayer)\nB2 Methodik Kinderschach bis hin zu Training mit Dyskalkuliekindern (Harald Niesch)\nC2 Social media für Schulschachgruppen (Elias Pfann)\nD2 Der Königsplan für Kinder (GM Stefan Kindermann\, hybrid)\nE2 Warum Schach? (Alex Frenkel)\nF2 Schach für Kinder im Alter von 4 Jahren aufwärts (Patrick Wiebe)\n\n\n\n15.30​–16.00 Uhr\nKaffeepause\, Markt der Möglichkeiten\, Verkaufsstand\n\n\n16.00​–18.00 Uhr\nWorkshoprunde 3  \nA3 Wie motiviere ich Mädchen zum Schach? (Laura Schalkhäuser)\nB3 Psychomotorik\, plus evtl. kooperative Lehrformen im Schach (Sabine Göhrke)\nC3 Methodik und Didaktik des Schachtrainings (Harald Schneider-Zinner)\nD3 Spiele auf dem Schachbrett – leider ohne Schach (Walter Rädler)\nE3 How to teach teachers to play chess with their children? (Jesper Hall)\nF3 ? (Manfred Grömping)\n\n\n\n18.00​–18.30 Uhr\nFeedbackrunde\n\n\n20.00 Uhr\nAbendgestaltung: die traditionelle schachpädagogische Nacht mit einem geselligen Beisammensein mit Büffet und einem Rahmenprogramm.\n\n\n\n\n\nSonntag\, 12.11.2023 \n\n\n\n09.00 Uhr\nTreffen der Deutschen Schachschulen\n\n\n09.00 Uhr\nTreffen der Schulschachreferenten\n\n\n\n\nKosten\nTeilnehmer zahlen pro Person: \n\nÜbernachtung im Einzelzimmer mit Frühstück\ntäglich 99\,00 EUR\, Überweisung im Voraus\nÜbernachtung im Einzelzimmer ohne Frühstück\ntäglich 79\,00 EUR\, Überweisung im Voraus\nTeilnahmegebühr\neinmalig 65\,00 EUR\, Überweisung im Voraus\nÜbernachtung im Doppelzimmer mit Frühstück\ntäglich 65\,00 EUR\, Überweisung im Voraus\nÜbernachtung im Doppelzimmer ohne Frühstück\ntäglich 45\,00 EUR\, Überweisung im Voraus\nTeilnahme an schachpädagogischer Nacht\neinmalig 30\,00 EUR\, Überweisung im Voraus\n\nÜberweisungen auf das Veranstalter-Konto: Deutsche Schachjugend e.V.\, IBAN DE24 1005 0000 0191 0318 10 (Landesbank Berlin\, BIC BELADEBEXXX) unter Angabe des Namens und des Stichworts »Schulschachkongress 2023 Erlangen«  \nMeldeformular\nAnmeldung unter https://www.deutsche-schachjugend.de/termine/2023/schulschachkongress/
URL:https://schulschachstiftung.de/event/15-deutscher-schulschachkongress-in-erlangen/
LOCATION:Novotel Erlangen\, Hofmannstrasse 34\, Erlangen\, 91052
CATEGORIES:Workshop
ATTACH;FMTTYPE=image/jpeg:https://schulschachstiftung.de/wp-content/uploads/2023/06/363414116_260037716775190_7047730963351593185_n.jpg
END:VEVENT
END:VCALENDAR