BEGIN:VCALENDAR
VERSION:2.0
PRODID:-//Deutsche Schulschachstiftung e.V. - ECPv6.15.20//NONSGML v1.0//EN
CALSCALE:GREGORIAN
METHOD:PUBLISH
X-ORIGINAL-URL:https://schulschachstiftung.de
X-WR-CALDESC:Veranstaltungen für Deutsche Schulschachstiftung e.V.
REFRESH-INTERVAL;VALUE=DURATION:PT1H
X-Robots-Tag:noindex
X-PUBLISHED-TTL:PT1H
BEGIN:VTIMEZONE
TZID:Europe/Berlin
BEGIN:DAYLIGHT
TZOFFSETFROM:+0100
TZOFFSETTO:+0200
TZNAME:CEST
DTSTART:20220327T010000
END:DAYLIGHT
BEGIN:STANDARD
TZOFFSETFROM:+0200
TZOFFSETTO:+0100
TZNAME:CET
DTSTART:20221030T010000
END:STANDARD
BEGIN:DAYLIGHT
TZOFFSETFROM:+0100
TZOFFSETTO:+0200
TZNAME:CEST
DTSTART:20230326T010000
END:DAYLIGHT
BEGIN:STANDARD
TZOFFSETFROM:+0200
TZOFFSETTO:+0100
TZNAME:CET
DTSTART:20231029T010000
END:STANDARD
BEGIN:DAYLIGHT
TZOFFSETFROM:+0100
TZOFFSETTO:+0200
TZNAME:CEST
DTSTART:20240331T010000
END:DAYLIGHT
BEGIN:STANDARD
TZOFFSETFROM:+0200
TZOFFSETTO:+0100
TZNAME:CET
DTSTART:20241027T010000
END:STANDARD
END:VTIMEZONE
BEGIN:VEVENT
DTSTART;VALUE=DATE:20230916
DTEND;VALUE=DATE:20230918
DTSTAMP:20260424T195351
CREATED:20230625T090140Z
LAST-MODIFIED:20230817T114841Z
UID:3441-1694822400-1694995199@schulschachstiftung.de
SUMMARY:Schulschachpatent von Frauen für Frauen in Dresden
DESCRIPTION:Das dritte Schulschachpatent von Frauen für Frauen findet in Dresden\, 16.-17. September statt. \nLaura Schalkhäuser und Chanda von Keyserlingk werden den Kurs halten. \nAnfragen an wraedler@aol.com \nAnmeldung\nAnmeldung über den Button “Anmelden” in diesem Beitrag bei gleichzeitiger Überweisung der Kursgebühr. \nAnmeldeschluss ist der 2. September! \nTeilnehmer zahlen pro Person: \n\nStartgeld einmalig 30\,00 EUR\, Überweisung im Voraus\n\nÜberweisungen auf das Veranstalter-Konto: Deutsche Schulschachstiftung e. V.\, IBAN DE78 2305 1030 0510 1382 74 (Sparkasse Südholstein\, BIC NOLADE21SHO) unter Angabe des Namens und des Stichworts »Schulschachpatent von Frauen für Frauen Dresden 23«  \nInhalte des Schulschachpatents der DSJ\nIm Folgenden werden die Inhalte des Schulschachpatents skizziert\, wobei bei einer Seminardauer von mindestens 12 Unterrichtseinheiten nicht alle Punkte ausführlich behandelt werden können. Zudem hängt die Stoffmenge und Stoffauswahl auch von dem schachlichen und pädagogischen Hintergrundwissen der Teilnehmer ab. Die aufgeführten Inhalte sollen alle angesprochen werden\, der Referent entscheidet aber mit der Gruppe über die Auswahl von Schwerpunkten. \n\nA Einführung und Hintergrundwissen\nB Methoden\nC Inhalte und Rahmenplan für das erste Schachjahr\nD Lehrmaterialien\nE Rahmenbedingungen\nF Pädagogik\n\nAlle Informationen sind auf der Webseite des Schulschachpatents zu finden. Das Deutsche Schulschachpatent wird von der Deutschen Schulschachstiftung und der Deutschen Schachjugend angeboten.
URL:https://schulschachstiftung.de/event/schulschachpatent-von-frauen-fuer-frauen-in-dresden/
LOCATION:TU Dresden Bürogebäude Zellescher Weg 17 (BZW)\, Zellescher Weg 17 (BZW)\, B-Flügel rechter Eingang\, EG 006 (Studio-Saal)\, Dresden\, 01069
CATEGORIES:Schulschachpatentkurse
ORGANIZER;CN="Deutsche Schulschachstiftung - Walter R%C3%A4dler":MAILTO:wraedler@aol.com
END:VEVENT
BEGIN:VEVENT
DTSTART;TZID=Europe/Berlin:20230922T170000
DTEND;TZID=Europe/Berlin:20230924T120000
DTSTAMP:20260424T195351
CREATED:20230625T173811Z
LAST-MODIFIED:20230629T201711Z
UID:3446-1695402000-1695556800@schulschachstiftung.de
SUMMARY:ECU-Schulschachpatentkurs in Wien
DESCRIPTION:Infos folgen
URL:https://schulschachstiftung.de/event/ecu-schulschachpatentkurs-in-wien/
CATEGORIES:Schulschachpatentkurse
END:VEVENT
BEGIN:VEVENT
DTSTART;TZID=Europe/Berlin:20230930T100000
DTEND;TZID=Europe/Berlin:20231001T170000
DTSTAMP:20260424T195351
CREATED:20221210T124650Z
LAST-MODIFIED:20230904T082103Z
UID:3192-1696068000-1696179600@schulschachstiftung.de
SUMMARY:Schulschachpatentkurs von Frauen für Frauen München
DESCRIPTION:Schulschachpatentkurs für Frauen\nErneut findet in Vaterstetten bei München ein Schulschachpatentkurs von Frauen für Frauen statt. Die Teilnahmegebühr beträgt 30 Euro. \nWir werden 8-10 Teilnehmerinnen privat unterbringen\, weil die Hotelpreise zum Oktoberfest astronomisch sind. Am Samstag findet nach dem Lehrgang ein Ausflug zum Münchner Oktoberfest statt. \nDie Kursleiterinnen sind Laura Schalkhäuser\, Anita Stangl\, Silke Schwartau und Monika Schmatz. \n\nInhalte des Schulschachpatents der DSJ\nIm Folgenden werden die Inhalte des Schulschachpatents skizziert\, wobei bei einer Seminardauer von mindestens 12 Unterrichtseinheiten nicht alle Punkte ausführlich behandelt werden können. Zudem hängt die Stoffmenge und Stoffauswahl auch von dem schachlichen und pädagogischen Hintergrundwissen der Teilnehmer ab. Die aufgeführten Inhalte sollen alle angesprochen werden\, der Referent entscheidet aber mit der Gruppe über die Auswahl von Schwerpunkten. \n\nA Einführung und Hintergrundwissen\nB Methoden\nC Inhalte und Rahmenplan für das erste Schachjahr\nD Lehrmaterialien\nE Rahmenbedingungen\nF Pädagogik\n\nAlle Informationen sind auf der Webseite des Schulschachpatents zu finden. Das Deutsche Schulschachpatent wird von der Deutschen Schulschachstiftung und der Deutschen Schachjugend angeboten. \n\nAnmeldung\nAnmeldung über den Button „Anmelden“ in diesem Beitrag bei gleichzeitiger Überweisung der Kursgebühr. \nAnmeldeschluss ist der 23. September 2023. \nTeilnehmer zahlen pro Person: \n\nStartgeld einmalig 30\,00 EUR\, Überweisung im Voraus\n\nÜberweisungen auf das Veranstalter-Konto: Deutsche Schulschachstiftung e. V.\, IBAN DE78 2305 1030 0510 1382 74 (Sparkasse Südholstein\, BIC NOLADE21SHO) unter Angabe des Namens und des Stichworts »Schulschachpatent von Frauen für Frauen München 23«  \n 
URL:https://schulschachstiftung.de/event/schulschachpatentkurs-von-frauen-fuer-frauen-muenchen/
CATEGORIES:Schulschachpatentkurse
ORGANIZER;CN="Deutsche Schulschachstiftung - Walter R%C3%A4dler":MAILTO:wraedler@aol.com
END:VEVENT
END:VCALENDAR