BEGIN:VCALENDAR
VERSION:2.0
PRODID:-//Deutsche Schulschachstiftung e.V. - ECPv6.15.20//NONSGML v1.0//EN
CALSCALE:GREGORIAN
METHOD:PUBLISH
X-ORIGINAL-URL:https://schulschachstiftung.de
X-WR-CALDESC:Veranstaltungen für Deutsche Schulschachstiftung e.V.
REFRESH-INTERVAL;VALUE=DURATION:PT1H
X-Robots-Tag:noindex
X-PUBLISHED-TTL:PT1H
BEGIN:VTIMEZONE
TZID:Europe/Berlin
BEGIN:DAYLIGHT
TZOFFSETFROM:+0100
TZOFFSETTO:+0200
TZNAME:CEST
DTSTART:20220327T010000
END:DAYLIGHT
BEGIN:STANDARD
TZOFFSETFROM:+0200
TZOFFSETTO:+0100
TZNAME:CET
DTSTART:20221030T010000
END:STANDARD
BEGIN:DAYLIGHT
TZOFFSETFROM:+0100
TZOFFSETTO:+0200
TZNAME:CEST
DTSTART:20230326T010000
END:DAYLIGHT
BEGIN:STANDARD
TZOFFSETFROM:+0200
TZOFFSETTO:+0100
TZNAME:CET
DTSTART:20231029T010000
END:STANDARD
BEGIN:DAYLIGHT
TZOFFSETFROM:+0100
TZOFFSETTO:+0200
TZNAME:CEST
DTSTART:20240331T010000
END:DAYLIGHT
BEGIN:STANDARD
TZOFFSETFROM:+0200
TZOFFSETTO:+0100
TZNAME:CET
DTSTART:20241027T010000
END:STANDARD
END:VTIMEZONE
BEGIN:VEVENT
DTSTART;VALUE=DATE:20230812
DTEND;VALUE=DATE:20230814
DTSTAMP:20260424T214003
CREATED:20230717T133702Z
LAST-MODIFIED:20230717T133702Z
UID:3461-1691798400-1691971199@schulschachstiftung.de
SUMMARY:Schulschachpatent in Münster
DESCRIPTION:Mit über 3000 Patenten ist das Schulschachpatent seit 20 Jahren ein kontinuierliches und nachgefragtes Fortbildungsangebot der Deutschen Schulschachstiftung.Das Schulschachpatent hat zum Ziel\, Übungsleiter und Lehrer auf die Arbeit an Schulen mit Schach vorzubereiten und dafür zu motivieren. Die Bandbreite der Organisationsformen von Schulschach reicht heute von Schach als Fach bis hin zur traditionellen Schulschach-AG.Die Zielgruppe des Schulschachpatents sind interessierte Übungsleiter und Lehrer\, die an einer Schule Schach unterrichten wollen oder es bereits tun. \nThemen (u.a.) \n\nAuswahl spezifischer Trainingsinhalte\, die für das Schulschach vonbesonderer Bedeutung sind\nGeeignete Trainingsmethoden aus der Praxis für das Training inSchulschachgruppen\nBedeutung des Schulschachschachs und Wirkung für die Entwicklungvon Schülern\nRahmenbedingungen für die Organisation des Schulschachs\nVorstellung einer Auswahl geeigneter Trainingsmaterialien für denSchulschachunterricht\n\n  \nAusschreibung Schulschachpatentlehrgang \n 
URL:https://schulschachstiftung.de/event/schulschachpatent-in-muenster/
LOCATION:Vereinsheim des SK Münster 32\, Westfälische Straße 197\, Münster\, 48165
CATEGORIES:Schulschachpatentkurse
END:VEVENT
END:VCALENDAR